BEGIN:VCALENDAR
VERSION:2.0
PRODID:-//TYPO3/NONSGML News system (news)//EN
CALSCALE:GREGORIAN
METHOD:PUBLISH
BEGIN:VEVENT
UID:news-116022@friesach.gv.at

DTSTAMP:20260422T140505Z



DTSTART;TZID=Europe/Vienna:20261115T150000
DTEND;TZID=Europe/Vienna:20261115T000000

SUMMARY:Derniere - Theaterherbst der Friesacher Burghofspiele
DESCRIPTION:Ort: Stadtsaal Friesach; VA: Friesacher Burghofspiele, Obmann Ing. Helmut Wachernig, 0664/64 22 818, helmut.wachernig@aon.at



LOCATION:


END:VEVENT
END:VCALENDAR
