BEGIN:VCALENDAR
VERSION:2.0
PRODID:-//TYPO3/NONSGML News system (news)//EN
CALSCALE:GREGORIAN
METHOD:PUBLISH
BEGIN:VEVENT
UID:news-95794@friesach.gv.at

DTSTAMP:20260421T105056Z



DTSTART;TZID=Europe/Vienna:20251025T193000
DTEND;TZID=Europe/Vienna:20251025T000000

SUMMARY:Theaterherbst der Friesacher Burghofspiele
DESCRIPTION:Ort: Stadtsaal im Stadtpark; VA: Friesacher Burghofspiele, Obmann Ing. Helmut Wachernig, 0664/64 22 818, helmut.wachernig@aon.at

LOCATION:


END:VEVENT
END:VCALENDAR
