BEGIN:VCALENDAR
VERSION:2.0
PRODID:-//TYPO3/NONSGML News system (news)//EN
CALSCALE:GREGORIAN
METHOD:PUBLISH
BEGIN:VEVENT
UID:news-80758@friesach.gv.at

DTSTAMP:20260421T104648Z



DTSTART;TZID=Europe/Vienna:20250419T140000
DTEND;TZID=Europe/Vienna:20250419T000000

SUMMARY:Speisensegnung Friesach - St. Thomas Kirche
DESCRIPTION:

LOCATION:


END:VEVENT
END:VCALENDAR
