BEGIN:VCALENDAR
VERSION:2.0
PRODID:-//TYPO3/NONSGML News system (news)//EN
CALSCALE:GREGORIAN
METHOD:PUBLISH
BEGIN:VEVENT
UID:news-80766@friesach.gv.at

DTSTAMP:20260422T105149Z



DTSTART;TZID=Europe/Vienna:20250419T150000
DTEND;TZID=Europe/Vienna:20250419T000000

SUMMARY:Speisensegnung Friesach - Propsteikirche
DESCRIPTION:

LOCATION:


END:VEVENT
END:VCALENDAR
