BEGIN:VCALENDAR
VERSION:2.0
PRODID:-//TYPO3/NONSGML News system (news)//EN
CALSCALE:GREGORIAN
METHOD:PUBLISH
BEGIN:VEVENT
UID:news-96667@friesach.gv.at

DTSTAMP:20260422T104639Z



DTSTART;TZID=Europe/Vienna:20250926T170000
DTEND;TZID=Europe/Vienna:20250926T000000

SUMMARY:Letzte Hilfe Kurs
DESCRIPTION:Ort: Festsaal Friesach; Kontakt: Silvia Reibnegger ab 15.30 Uhr, Tel.: 0660/48 50 125

LOCATION:


END:VEVENT
END:VCALENDAR
