BEGIN:VCALENDAR
VERSION:2.0
PRODID:-//TYPO3/NONSGML News system (news)//EN
CALSCALE:GREGORIAN
METHOD:PUBLISH
BEGIN:VEVENT
UID:news-84777@friesach.gv.at

DTSTAMP:20260421T103001Z



DTSTART;TZID=Europe/Vienna:20250629T100000
DTEND;TZID=Europe/Vienna:20250629T000000

SUMMARY:Handwerksmarkt im Fürstenhof
DESCRIPTION:

LOCATION:


END:VEVENT
END:VCALENDAR
