BEGIN:VCALENDAR
VERSION:2.0
PRODID:-//TYPO3/NONSGML News system (news)//EN
CALSCALE:GREGORIAN
METHOD:PUBLISH
BEGIN:VEVENT
UID:news-98504@friesach.gv.at

DTSTAMP:20260420T105410Z



DTSTART;TZID=Europe/Vienna:20251123T083000
DTEND;TZID=Europe/Vienna:20251123T000000

SUMMARY:Gottesdienst in der Pfarrkirche St. Stefan zu Ehren der heiligen Cäcilia
DESCRIPTION:Gesangliche Umrahmung vom Kirchen-/Grenzchor Dürnstein; Ansprechperson: Frau Elke-Maria Hinteregger, hinteregger.elke@gmail.com



LOCATION:


END:VEVENT
END:VCALENDAR
