BEGIN:VCALENDAR
VERSION:2.0
PRODID:-//TYPO3/NONSGML News system (news)//EN
CALSCALE:GREGORIAN
METHOD:PUBLISH
BEGIN:VEVENT
UID:news-115627@friesach.gv.at

DTSTAMP:20260422T135726Z



DTSTART;TZID=Europe/Vienna:20260531T103000
DTEND;TZID=Europe/Vienna:20260531T000000

SUMMARY:Pfarrfest in Ingolsthal
DESCRIPTION:10.30 Uhr Hl. Messe mit dem MGV Ingolsthal; Ort: Sportplatz Ingolsthal

LOCATION:


END:VEVENT
END:VCALENDAR
