BEGIN:VCALENDAR
VERSION:2.0
PRODID:-//TYPO3/NONSGML News system (news)//EN
CALSCALE:GREGORIAN
METHOD:PUBLISH
BEGIN:VEVENT
UID:news-116340@friesach.gv.at

DTSTAMP:20260422T140028Z



DTSTART;TZID=Europe/Vienna:20260613T200000
DTEND;TZID=Europe/Vienna:20260613T000000

SUMMARY:Discoabend der Landjugend Zeltschach
DESCRIPTION:Ort: Veranstaltungshalle Zeltschach

LOCATION:


END:VEVENT
END:VCALENDAR
