BEGIN:VCALENDAR
VERSION:2.0
PRODID:-//TYPO3/NONSGML News system (news)//EN
CALSCALE:GREGORIAN
METHOD:PUBLISH
BEGIN:VEVENT
UID:news-115925@friesach.gv.at

DTSTAMP:20260422T135935Z



DTSTART;TZID=Europe/Vienna:20261024T193000
DTEND;TZID=Europe/Vienna:20261024T000000

SUMMARY:Theaterherbst der Friesacher Burghofspiele
DESCRIPTION:Ort: Stadtsaal Friesach; VA: Friesacher Burghofspiele, Obmann Ing. Helmut Wachernig, 0664/64 22 818, helmut.wachernig@aon.at

LOCATION:


END:VEVENT
END:VCALENDAR
