BEGIN:VCALENDAR
VERSION:2.0
PRODID:-//TYPO3/NONSGML News system (news)//EN
CALSCALE:GREGORIAN
METHOD:PUBLISH
BEGIN:VEVENT
UID:news-116023@friesach.gv.at

DTSTAMP:20260422T140415Z



DTSTART;TZID=Europe/Vienna:20261212T180000
DTEND;TZID=Europe/Vienna:20261212T000000

SUMMARY:Premiere - Weihnachtsmärchen der Friesacher Burghofspiele
DESCRIPTION:Ort: Stadtsaal im Stadtpark; VA: Friesacher Burghofspiele; Ansprechperson: Obmann Ing. Helmut Wachernig

LOCATION:


END:VEVENT
END:VCALENDAR
