BEGIN:VCALENDAR
VERSION:2.0
PRODID:-//TYPO3/NONSGML News system (news)//EN
CALSCALE:GREGORIAN
METHOD:PUBLISH
BEGIN:VEVENT
UID:news-114416@friesach.gv.at

DTSTAMP:20260422T135924Z



DTSTART;TZID=Europe/Vienna:20260612T183000
DTEND;TZID=Europe/Vienna:20260612T000000

SUMMARY:Summer Breeze (Ersatztermin)
DESCRIPTION:VA: Stadtkapelle Friesach in Kooperation mit dem Kulturreferat der Stadtgemeinde Friesach; Ort: Fürstenhof

LOCATION:


END:VEVENT
END:VCALENDAR
