BEGIN:VCALENDAR
VERSION:2.0
PRODID:-//TYPO3/NONSGML News system (news)//EN
CALSCALE:GREGORIAN
METHOD:PUBLISH
BEGIN:VEVENT
UID:news-116042@friesach.gv.at

DTSTAMP:20260422T135935Z



DTSTART;TZID=Europe/Vienna:20261226T180000
DTEND;TZID=Europe/Vienna:20261226T000000

SUMMARY:Derniere - Weihnachtsmärchen der Friesacher Burghofspiele
DESCRIPTION:Ort: Stadtsaal im Stadtpark; VA: Friesacher Burghofspiele; Ansprechperson: Obmann Ing. Helmut Wachernig

LOCATION:


END:VEVENT
END:VCALENDAR
