BEGIN:VCALENDAR
VERSION:2.0
PRODID:-//TYPO3/NONSGML News system (news)//EN
CALSCALE:GREGORIAN
METHOD:PUBLISH
BEGIN:VEVENT
UID:news-115692@friesach.gv.at

DTSTAMP:20260422T135731Z



DTSTART;TZID=Europe/Vienna:20260527T153000
DTEND;TZID=Europe/Vienna:20260527T200000

SUMMARY:Blutspendeaktion
DESCRIPTION:Ort: Rotkreuz-Ortsstelle Friesach, Neumarkter Straße 60; VA: Österreichisches Rotes Kreuz

LOCATION:


END:VEVENT
END:VCALENDAR
