BEGIN:VCALENDAR
VERSION:2.0
PRODID:-//TYPO3/NONSGML News system (news)//EN
CALSCALE:GREGORIAN
METHOD:PUBLISH
BEGIN:VEVENT
UID:news-116421@friesach.gv.at

DTSTAMP:20260424T103043Z



DTSTART;TZID=Europe/Vienna:20260816T100000
DTEND;TZID=Europe/Vienna:20260816T000000

SUMMARY:Friesacher Pferdefest
DESCRIPTION:Reitplatz – Olsa; VA: Pferdezuchtverein Veronika Leitner



LOCATION:


END:VEVENT
END:VCALENDAR
