BEGIN:VCALENDAR
VERSION:2.0
PRODID:-//TYPO3/NONSGML News system (news)//EN
CALSCALE:GREGORIAN
METHOD:PUBLISH
BEGIN:VEVENT
UID:news-115799@friesach.gv.at

DTSTAMP:20260422T135948Z



DTSTART;TZID=Europe/Vienna:20260729T203000
DTEND;TZID=Europe/Vienna:20260729T000000

SUMMARY:Friesacher Burghofspiele 2026 „Der Brandner Kaspar kehrt zurück“
DESCRIPTION:Ort: Freilichtbühne am Petersberg; VA: Friesacher Burghofspiele; Informationen &amp; Karten: bei allen Ö-Ticket-Verkaufsstellen in Ihrer Nähe oder an der Abendkasse an Spieltagen ab 19.00 Uhr, www.burghofspiele.com; Ansprechperson: Obmann Ing. Helmut Wachernig 0664/64 22 818, helmut.wachernig@aon.at



LOCATION:


END:VEVENT
END:VCALENDAR
