BEGIN:VCALENDAR
VERSION:2.0
PRODID:-//TYPO3/NONSGML News system (news)//EN
CALSCALE:GREGORIAN
METHOD:PUBLISH
BEGIN:VEVENT
UID:news-115833@friesach.gv.at

DTSTAMP:20260422T135731Z



DTSTART;TZID=Europe/Vienna:20260809T180000
DTEND;TZID=Europe/Vienna:20260809T000000

SUMMARY:Friesacher Märchensonntage
DESCRIPTION:Ort: Stadtsaal im Stadtpark; VA: Friesacher Burghofspiele; Ansprechperson: Obmann Ing. Helmut Wachernig 0664/64 22 818, helmut.wachernig@aon.at



LOCATION:


END:VEVENT
END:VCALENDAR
