BEGIN:VCALENDAR
VERSION:2.0
PRODID:-//TYPO3/NONSGML News system (news)//EN
CALSCALE:GREGORIAN
METHOD:PUBLISH
BEGIN:VEVENT
UID:news-115757@friesach.gv.at

DTSTAMP:20260422T140319Z



DTSTART;TZID=Europe/Vienna:20260502T100000
DTEND;TZID=Europe/Vienna:20260502T000000

SUMMARY:Maifest der LJ St. Salvator
DESCRIPTION:Ort: Dorfplatz St. Salvator

LOCATION:


END:VEVENT
END:VCALENDAR
