BEGIN:VCALENDAR
VERSION:2.0
PRODID:-//TYPO3/NONSGML News system (news)//EN
CALSCALE:GREGORIAN
METHOD:PUBLISH
BEGIN:VEVENT
UID:news-115920@friesach.gv.at

DTSTAMP:20260422T135731Z



DTSTART;TZID=Europe/Vienna:20261023T193000
DTEND;TZID=Europe/Vienna:20261023T000000

SUMMARY:Premiere - Theaterherbst der Friesacher Burghofspiele
DESCRIPTION:Ort: Stadtsaal Friesach; VA: Friesacher Burghofspiele, Obmann Ing. Helmut Wachernig, 0664/64 22 818, helmut.wachernig@aon.at

LOCATION:


END:VEVENT
END:VCALENDAR
