BEGIN:VCALENDAR
VERSION:2.0
PRODID:-//TYPO3/NONSGML News system (news)//EN
CALSCALE:GREGORIAN
METHOD:PUBLISH
BEGIN:VEVENT
UID:news-114502@friesach.gv.at

DTSTAMP:20260424T102807Z



DTSTART;TZID=Europe/Vienna:20260529T183000
DTEND;TZID=Europe/Vienna:20260529T000000

SUMMARY:Lange Nacht der Kirchen in Friesach
DESCRIPTION:18.30 Uhr bis 20.00 Uhr: Die Stadtpfarrkirche entdecken 
21.30 Uhr: Taschenlampenführung
Keine Anmeldung erforderlich; VA: MMag. Carmen Heller

LOCATION:


END:VEVENT
END:VCALENDAR
