BEGIN:VCALENDAR
VERSION:2.0
PRODID:-//TYPO3/NONSGML News system (news)//EN
CALSCALE:GREGORIAN
METHOD:PUBLISH
BEGIN:VEVENT
UID:news-98505@friesach.gv.at

DTSTAMP:20260421T104510Z



DTSTART;TZID=Europe/Vienna:20251214T170000
DTEND;TZID=Europe/Vienna:20251214T000000

SUMMARY:ADVENTMesse in der Parrkirche St. Stefan
DESCRIPTION:Eintritt: freiwillige Spende; gesangliche Gestaltung: Volksliedchor Althofen und Grenzchor Dürnstein; Ansprechperson: Elke-Maria Hinteregger, hinteregger.elke@gmail.com

LOCATION:


END:VEVENT
END:VCALENDAR
